BEGIN:VCALENDAR
VERSION:2.0
PRODID:-//CNDB - ECPv6.15.20//NONSGML v1.0//EN
CALSCALE:GREGORIAN
METHOD:PUBLISH
X-WR-CALNAME:CNDB
X-ORIGINAL-URL:https://cndb.org
X-WR-CALDESC:Évènements pour CNDB
REFRESH-INTERVAL;VALUE=DURATION:PT1H
X-Robots-Tag:noindex
X-PUBLISHED-TTL:PT1H
BEGIN:VTIMEZONE
TZID:Europe/Paris
BEGIN:DAYLIGHT
TZOFFSETFROM:+0100
TZOFFSETTO:+0200
TZNAME:CEST
DTSTART:20230326T010000
END:DAYLIGHT
BEGIN:STANDARD
TZOFFSETFROM:+0200
TZOFFSETTO:+0100
TZNAME:CET
DTSTART:20231029T010000
END:STANDARD
BEGIN:DAYLIGHT
TZOFFSETFROM:+0100
TZOFFSETTO:+0200
TZNAME:CEST
DTSTART:20240331T010000
END:DAYLIGHT
BEGIN:STANDARD
TZOFFSETFROM:+0200
TZOFFSETTO:+0100
TZNAME:CET
DTSTART:20241027T010000
END:STANDARD
BEGIN:DAYLIGHT
TZOFFSETFROM:+0100
TZOFFSETTO:+0200
TZNAME:CEST
DTSTART:20250330T010000
END:DAYLIGHT
BEGIN:STANDARD
TZOFFSETFROM:+0200
TZOFFSETTO:+0100
TZNAME:CET
DTSTART:20251026T010000
END:STANDARD
END:VTIMEZONE
BEGIN:VEVENT
DTSTART;VALUE=DATE:20241213
DTEND;VALUE=DATE:20241214
DTSTAMP:20260421T103632
CREATED:20241217T174208Z
LAST-MODIFIED:20241217T174523Z
UID:33193-1734048000-1734134399@cndb.org
SUMMARY:PRESSE : ASSEMBLEE GENERALE 2024 DE LA FNB
DESCRIPTION:Le vendredi 13 décembre 2024\, la FNB a réuni ses adhérents à l’occasion de son Assemblée Générale annuelle. Cette journée riche en échanges a permis de mettre en lumière les enjeux stratégiques de la filière bois\, regroupant les exploitants forestiers\, les premiers et seconds transformateurs du bois de construction\, du bois énergie\, des palettes et de l’emballage.. \nJean-Pascal Archimbaud\, Président de la FNB\, a donné le coup d’envoi de l’Assemblée Générale 2024. Dans son discours introductif\, il a souligné l’importance de cette rencontre pour consolider les bases de l’avenir de la filière bois et renforcer les collaborations entre ses différents acteurs. \nLa matinée a été marquée par la présentation des résultats financiers 2023-2024 par Mickaël Darcq\, analyste de la Banque de France. Cette analyse a offert une vision précise des performances économiques des entreprises de la filière bois\, mettant en évidence les défis et les opportunités pour les années à venir. \nL’Assemblée Générale a également été le théâtre d’une table ronde autour de la conjoncture et des perspectives pour 2025. Animée par des experts\, cet échange a réuni : Sébastien Rolly pour le Pôle Exploitation Forestière ; Marc Siat pour le Pôle Résineux ; Edouard Ducerf pour le Pôle Feuillus ; Jacques Barillet pour le Pôle Négoce et Christophe Beneton pour le Pôle Emballage. Les discussions ont porté sur les stratégies pour dynamiser la filière tout en répondant aux enjeux environnementaux et économiques. \nUn autre temps fort de cette journée a été la conférence consacrée à la forêt face au défi climatique. Myriam Maestroni\, Présidente fondatrice de e5t\, et Jean-Pascal Archimbaud ont partagé leurs visions sur le rôle central de la forêt dans la transition écologique et la lutte contre le changement climatique. Ce dialogue a mis en évidence l’importance de la filière bois comme moteur de cette transition. \nEnfin\, Annie Genevard\, Ministre de l’Agriculture\, a adressé un message vidéo aux adhérents de la FNB. Dans son intervention\, elle a exprimé son soutien aux acteurs de la filière bois et a souligné leur rôle essentiel dans l’économie et l’écologie nationales. \nJean-Pascal Archimbaud a clôturé cette journée en partageant une vision ambitieuse pour l’avenir de la filière. Il a remercié chaleureusement les participants et les intervenants pour leurs contributions\, tout en rappelant l’importance de poursuivre ces échanges dans un esprit de coopération et d’innovation. \nL’Assemblée Générale de la FNB 2024 s’est achevée sur une note positive et inspirante autour d’un bon repas. \nMerci à tous ceux qui ont participé à cet événement et contribuent\, chaque jour\, à faire avancer la filière bois.
URL:https://cndb.org/actualite/presse-assemblee-generale-2024-de-la-fnb/
CATEGORIES:News
ATTACH;FMTTYPE=image/png:https://cndb.org/site/wp-content/uploads/2024/12/Capture-decran-2024-12-17-a-18.41.49.png
END:VEVENT
END:VCALENDAR